BEGIN:VCALENDAR
VERSION:2.0
PRODID:-//Inspire Omaha - ECPv6.7.0//NONSGML v1.0//EN
CALSCALE:GREGORIAN
METHOD:PUBLISH
X-WR-CALNAME:Inspire Omaha
X-ORIGINAL-URL:https://inspire-omaha.com
X-WR-CALDESC:Events for Inspire Omaha
REFRESH-INTERVAL;VALUE=DURATION:PT1H
X-Robots-Tag:noindex
X-PUBLISHED-TTL:PT1H
BEGIN:VTIMEZONE
TZID:America/Chicago
BEGIN:DAYLIGHT
TZOFFSETFROM:-0600
TZOFFSETTO:-0500
TZNAME:CDT
DTSTART:20240310T080000
END:DAYLIGHT
BEGIN:STANDARD
TZOFFSETFROM:-0500
TZOFFSETTO:-0600
TZNAME:CST
DTSTART:20241103T070000
END:STANDARD
BEGIN:DAYLIGHT
TZOFFSETFROM:-0600
TZOFFSETTO:-0500
TZNAME:CDT
DTSTART:20250309T080000
END:DAYLIGHT
BEGIN:STANDARD
TZOFFSETFROM:-0500
TZOFFSETTO:-0600
TZNAME:CST
DTSTART:20251102T070000
END:STANDARD
END:VTIMEZONE
BEGIN:VEVENT
DTSTART;TZID=America/Chicago:20241203T110000
DTEND;TZID=America/Chicago:20241203T130000
DTSTAMP:20260420T032821
CREATED:20241003T160935Z
LAST-MODIFIED:20250425T182807Z
UID:2171-1733223600-1733230800@inspire-omaha.com
SUMMARY:2024 Inspire Awards Luncheon
DESCRIPTION:Join us for an unforgettable celebration of inspiration - click here for tickets!
URL:https://inspire-omaha.com/event/2024-inspire-awards-luncheon/
LOCATION:CHI Health Center\, 455 N 10th St.\, Omaha\, NE\, 68102
ATTACH;FMTTYPE=image/jpeg:https://inspire-omaha.com/wp-content/uploads/CarolR_fun.jpg
ORGANIZER;CN="Omaha World-Herald":MAILTO:events@owh.com
END:VEVENT
BEGIN:VEVENT
DTSTART;TZID=America/Chicago:20250521T160000
DTEND;TZID=America/Chicago:20250521T180000
DTSTAMP:20260420T032821
CREATED:20250428T203356Z
LAST-MODIFIED:20250428T203356Z
UID:2266-1747843200-1747850400@inspire-omaha.com
SUMMARY:2025 Inspire Kick-off Reception
DESCRIPTION:
URL:https://inspire-omaha.com/event/2025-inspire-kick-off-reception/
LOCATION:Lutz\, 13616 California St Suite 300\, Omaha\, NE\, 68154
END:VEVENT
BEGIN:VEVENT
DTSTART;TZID=America/Chicago:20251029T110000
DTEND;TZID=America/Chicago:20251029T130000
DTSTAMP:20260420T032821
CREATED:20250428T203356Z
LAST-MODIFIED:20250428T203356Z
UID:2268-1761735600-1761742800@inspire-omaha.com
SUMMARY:2025 Inspire Luncheon
DESCRIPTION:
URL:https://inspire-omaha.com/event/2025-inspire-luncheon/
LOCATION:Baxter Arena\, 2425 S 67th St\, Omaha\, NE\, 68182
END:VEVENT
END:VCALENDAR